BEGIN:VCALENDAR
VERSION:2.0
PRODID:-//Etkin Pedal - ECPv5.14.2.1//NONSGML v1.0//EN
CALSCALE:GREGORIAN
METHOD:PUBLISH
X-WR-CALNAME:Etkin Pedal
X-ORIGINAL-URL:https://etkinpedal.com
X-WR-CALDESC:Events for Etkin Pedal
REFRESH-INTERVAL;VALUE=DURATION:PT1H
X-Robots-Tag:noindex
X-PUBLISHED-TTL:PT1H
BEGIN:VTIMEZONE
TZID:Europe/Moscow
BEGIN:STANDARD
TZOFFSETFROM:+0300
TZOFFSETTO:+0300
TZNAME:MSK
DTSTART:20260101T000000
END:STANDARD
TZID:UTC
BEGIN:STANDARD
TZOFFSETFROM:+0000
TZOFFSETTO:+0000
TZNAME:UTC
DTSTART:20220101T000000
END:STANDARD
END:VTIMEZONE
BEGIN:VEVENT
DTSTART;VALUE=DATE:20260329
DTEND;VALUE=DATE:20260330
DTSTAMP:20260420T051418
CREATED:20260220T111100Z
LAST-MODIFIED:20260220T111215Z
UID:2191-1774742400-1774828799@etkinpedal.com
SUMMARY:PERTEK BİSİKLET TURU
DESCRIPTION:DETAYLAR WP ÜZERİNDEN PAYLAŞILACAKTIR.
URL:https://etkinpedal.com/faaliyet/pertek-bisiklet-turu/
LOCATION:ATOMİXBİLİŞİM\, Ataşehir Mah. Muhabirler Sok. No:10/A\, Elazığ\, Turkey
END:VEVENT
BEGIN:VEVENT
DTSTART;TZID=UTC:20260325T070000
DTEND;TZID=UTC:20260325T193000
DTSTAMP:20260420T051418
CREATED:20260220T110716Z
LAST-MODIFIED:20260220T110807Z
UID:2188-1774422000-1774467000@etkinpedal.com
SUMMARY:TRENYOLU - ATAŞEHİR ROTASI
DESCRIPTION:
URL:https://etkinpedal.com/faaliyet/trenyolu-atasehir-rotasi/
END:VEVENT
BEGIN:VEVENT
DTSTART;TZID=UTC:20260322T090000
DTEND;TZID=UTC:20260322T143000
DTSTAMP:20260420T051418
CREATED:20260220T110504Z
LAST-MODIFIED:20260220T110905Z
UID:2185-1774170000-1774189800@etkinpedal.com
SUMMARY:DÜNYA ORMANCILIK GÜNÜ - CİP KAHVALTI TURU
DESCRIPTION:Ormancılık günü ve gelenekselleşen cip kahvaltı turumuzu birleştiriyoruz. \nBayramın 3. günü planlayacağımız turumuza sizleri de bekleriz. Detaylar daha sonra paylaşılacaktır.
URL:https://etkinpedal.com/faaliyet/dunya-ormancilik-gunu-cip-kahvalti-turu/
LOCATION:ATOMİXBİLİŞİM\, Ataşehir Mah. Muhabirler Sok. No:10/A\, Elazığ\, Turkey
END:VEVENT
BEGIN:VEVENT
DTSTART;TZID=UTC:20260318T200000
DTEND;TZID=UTC:20260318T213000
DTSTAMP:20260420T051418
CREATED:20260220T105550Z
LAST-MODIFIED:20260220T105550Z
UID:2183-1773864000-1773869400@etkinpedal.com
SUMMARY:ÇANAKKALE ZAFERİ BİSİKLET TURU
DESCRIPTION:🚴‍♂️ 18 Mart Çanakkale Zaferi Anma Bisiklet Turu 🚴‍♀️ \nTarihe altın harflerle kazınan 18 Mart Çanakkale Zaferi’ni anmak için Bisikletliler Derneği Elazığ Temsilciliği olarak bir araya geliyoruz! \n🇹🇷 Şehitlerimizi Saygı ve Minnetle Anıyoruz! 🇹🇷 \nBu anlamlı günde\, birlik ve beraberliğimizi göstermek için pedal çeviriyoruz. Sen de bu özel etkinliğe katılarak Çanakkale ruhunu yaşatmaya ne dersin? \n📍 Toplanma Yeri: Elazığ Belediyesi Karşısı\n⏰ Toplanma Saati: 20.00\n🚴‍♂️ Yola Çıkış Saati: 20.30 \nHep birlikte bu özel günü anmak için seni de bekliyoruz! \n🔗 Daha fazla bilgi için: bisikletlilerelazig.org\n📲 bd.elazig hesabımızı sosyal medyada takip etmeyi unutma! \nBisikletliler Derneği Elazığ Temsilciliği 🚴‍♂️🇹🇷
URL:https://etkinpedal.com/faaliyet/canakkale-zaferi-bisiklet-turu/
END:VEVENT
BEGIN:VEVENT
DTSTART;TZID=UTC:20260314T110000
DTEND;TZID=UTC:20260314T120000
DTSTAMP:20260420T051418
CREATED:20260220T104822Z
LAST-MODIFIED:20260220T105023Z
UID:2179-1773486000-1773489600@etkinpedal.com
SUMMARY:TIP BAYRAMI BİSİKLET TURU
DESCRIPTION:DETAYLAR PAYLAŞILACAKTIR. \nPLANLANAN DETAY: \nKAMPÜS İÇİ GEZİ VE HAVA DURUMUNA BAĞLI OLARAK MTB ROTASI GEZİLMESİ
URL:https://etkinpedal.com/faaliyet/tip-bayrami-bisaiklet-turu/
END:VEVENT
BEGIN:VEVENT
DTSTART;TZID=UTC:20260312T193000
DTEND;TZID=UTC:20260312T213000
DTSTAMP:20260420T051418
CREATED:20260220T104744Z
LAST-MODIFIED:20260220T105245Z
UID:2177-1773343800-1773351000@etkinpedal.com
SUMMARY:İSTİKLAL MARŞININ KABULÜ BİSİKLET TURU
DESCRIPTION:DETAYLAR PAYLAŞILACAKTIR.
URL:https://etkinpedal.com/faaliyet/istiklal-marsinin-kabulu-bisiklet-turu/
END:VEVENT
BEGIN:VEVENT
DTSTART;TZID=UTC:20260308T140000
DTEND;TZID=UTC:20260308T153000
DTSTAMP:20260420T051418
CREATED:20260220T104148Z
LAST-MODIFIED:20260220T104148Z
UID:2175-1772978400-1772983800@etkinpedal.com
SUMMARY:8 MART DÜNYA KADINLAR GÜNÜ BİSİKLET TURU
DESCRIPTION:BİLGİLER WP GRUBUNDAN PAYLAŞILACAKTIR.
URL:https://etkinpedal.com/faaliyet/8-mart-dunya-kadinlar-gunu-bisiklet-turu/
END:VEVENT
BEGIN:VEVENT
DTSTART;TZID=UTC:20260304T200000
DTEND;TZID=UTC:20260305T053000
DTSTAMP:20260420T051418
CREATED:20260220T103510Z
LAST-MODIFIED:20260220T103510Z
UID:2173-1772654400-1772688600@etkinpedal.com
SUMMARY:İFTARDAN SAHURA BİSİKLET TURU
DESCRIPTION:
URL:https://etkinpedal.com/faaliyet/iftardan-sahura-bisiklet-turu/
LOCATION:ATOMİXBİLİŞİM\, Ataşehir Mah. Muhabirler Sok. No:10/A\, Elazığ\, Turkey
END:VEVENT
BEGIN:VEVENT
DTSTART;TZID=UTC:20260301T193000
DTEND;TZID=UTC:20260301T213000
DTSTAMP:20260420T051418
CREATED:20260220T092509Z
LAST-MODIFIED:20260220T092509Z
UID:2168-1772393400-1772400600@etkinpedal.com
SUMMARY:FEVZİÇAKMAK - YILDIZBAĞLARI KANAL BOYU ROTASI
DESCRIPTION:‼️ TUR DUYURUSU ‼️ \n🚴‍♂️1 MART PAZAR AKŞAMI TUR DUYURUSU🚴‍♀️ \nTur rotası ve zorluk : Kolay \nKanal Boyu – Sürsürü Alt Yol – FevziÇakmak Kanal Yolu – Yıldızbağları Kanal Yolu – Harput Alt Kavşağı – Sigorta Hastanesi Cad. – Sürsürü Alt Yol – Kanalboyu \nZorluk: Kolay \n1 Mart Pazar Akşamı Toplanma Saati\n19.30 da Kanalboyu Başlangıcı dır.; Saat 20.00 \nYola çıkış saatimizdir. \n⁉️ Akşam turu olduğu için ışıklarınızı kontrol ediniz. Reflektörlü veya açık renkler giyiniz \nİyi Pedallamalar \nETKİN PEDAL YÖNETİMİ
URL:https://etkinpedal.com/faaliyet/fevzicakmak-yildizbaglari-kanal-boyu-rotasi/
LOCATION:ATOMİXBİLİŞİM\, Ataşehir Mah. Muhabirler Sok. No:10/A\, Elazığ\, Turkey
END:VEVENT
BEGIN:VEVENT
DTSTART;TZID=UTC:20260225T193000
DTEND;TZID=UTC:20260225T213000
DTSTAMP:20260420T051418
CREATED:20260220T091833Z
LAST-MODIFIED:20260220T091833Z
UID:2165-1772047800-1772055000@etkinpedal.com
SUMMARY:ÇEVRE YOLU\, AKSARAY\, ALTGEÇİT ROTASI
DESCRIPTION:‼️ TUR DUYURUSU ‼️ \n🚴‍♂️26 ŞUBAT ÇARŞAMBA AKŞAMI TUR DUYURUSU🚴‍♀️ \nTur rotası ve zorluk : Aşağıdaki gibidir \nRota : Kanal boyu ya da AtomixBilişim – çevreyolu – Aksaray alt geçit\, Aksaray\, eski çevre yolu ve bitiş. \nZORLUK : Kolay \n26 Şubat Çarşamba Akşamı Toplanma Saati\n19.30 da Kanalboyu\nSaat 20.00 Yola çıkış saatimizdir. \n⁉️ Akşam turu olduğu için ışıklarınızı kontrol ediniz. Reflektörlü veya açık renkler giyiniz
URL:https://etkinpedal.com/faaliyet/cevre-yolu-aksaray-altgecit-rotasi/
END:VEVENT
BEGIN:VEVENT
DTSTART;TZID=UTC:20260222T193000
DTEND;TZID=UTC:20260222T213000
DTSTAMP:20260420T051418
CREATED:20260220T063526Z
LAST-MODIFIED:20260220T092045Z
UID:2162-1771788600-1771795800@etkinpedal.com
SUMMARY:22 ŞUBAT TERSTEN ÇEVRE YOLU ROTASI
DESCRIPTION:‼️ TUR DUYURUSU ‼️ \nSEZON AÇILIŞ TURU \n🚴‍♂️22 Şubat Pazar Akşamı Tur Duyurusu🚴‍♀️ \nTur rotası ve zorluk : Aşağıdaki gibidir \nTersten çevre yolu rotası — Gelen ekibe göre OPET den dönebiliriz Gidiş güzergahı tren yolu olacaktır. \nZORLUK : KOLAY – (Yeni gelenler için ORTA) \n22 Şubat Perşembe Akşamı Toplanma Saati\n19.30 da Kanalboyu Başlangıcı dır. \nSaat 20.00 Yola çıkış saatimizdir. \n⁉️ Akşam turu olduğu için ışıklarınızı kontrol ediniz. Reflektörlü veya açık renkler giyiniz \nİyi Pedallamalar \nETKİN PEDAL YÖNETİMİ
URL:https://etkinpedal.com/faaliyet/2162/
END:VEVENT
BEGIN:VEVENT
DTSTART;TZID=UTC:20251102T110000
DTEND;TZID=UTC:20251102T170000
DTSTAMP:20260420T051418
CREATED:20251031T182809Z
LAST-MODIFIED:20251031T182809Z
UID:1754-1762081200-1762102800@etkinpedal.com
SUMMARY:2 Kasım Pazar Kavurmalı Bisiklet Turu – Etkin Pedal
DESCRIPTION:🚴‍♀️ 2 Kasım Pazar Bisiklet Turu – Etkin Pedal\nEtkin Pedal Bisiklet Topluluğu olarak bu hafta sonu Elazığ’ın en keyifli parkurlarından birinde sürüş gerçekleştireceğiz. Rota detaylarımız aşağıdadır: \n📍 Rota: Kanalboyu → Yolçatı → Gözeli Kavşağı🕚 Toplanma: 11:00 – Kanalboyu önü⏱ Çıkış: 11:30 \nTurumuzun ardından dileyen katılımcılar ile birlikte Kavurmacı Şaban Usta’da yemek planlanmaktadır.Yemek etkinliği isteğe bağlıdır.Katılacaklar yanlarında nakit bulundurmalıdır. \nBu tur\, hem keyifli yol sürüşü yapmak isteyenlere hem de yeni arkadaşlar edinmek isteyenlere uygundur.Kask ve kişisel ekipman kullanımı zorunludur. \nHerkesi pedal çevirmeye davet ediyoruz 🌿Sağlıklı\, güvenli ve keyifli sürüşler dileriz. \nEtkin Pedal Bisiklet Topluluğu \nTur rotası :
URL:https://etkinpedal.com/faaliyet/2-kasim-pazar-kavurmali-bisiklet-turu-etkin-pedal/
LOCATION:ATOMİXBİLİŞİM\, Ataşehir Mah. Muhabirler Sok. No:10/A\, Elazığ\, Turkey
END:VEVENT
BEGIN:VEVENT
DTSTART;TZID=UTC:20251019T133000
DTEND;TZID=UTC:20251019T190000
DTSTAMP:20260420T051418
CREATED:20251018T095721Z
LAST-MODIFIED:20251018T100321Z
UID:1746-1760880600-1760900400@etkinpedal.com
SUMMARY:‼ 19 EKİM PAZAR HARPUT ÜST YOL - KUZEY ÇEVRE YOLU - CİP KÖYÜ TURU
DESCRIPTION:  \n🚴‍♂ 19 Ekim Pazar – HARPUT ÜST YOL – KUZEY ÇEVRE YOLU – CİP KÖYÜ TURU 🚴‍♀ \n🗓 Tarih: 18 Ekim Pazar\n📍 Toplanma Yeri: Kanalboyu önü\n🕓 Toplanma: 13.30\n⏰ Çıkış: 14.00\n❗14.01’de kimse beklenmeyecek. \n📌 Rota: Harput Üst Yol – Cip Köyü\n🔄 Plan:\n🚵‍♂ Harput’a tırmanış sonrası çardaklarda kısa bir mola ardından çevre yolundan Cip’e iniş\, Cip’te durmadan dönüş yapılacaktır. \n📏 Zorluk: ZOR 🔴 (Kondisyon gerektirir) \n🎒 Yanınızda olması gerekenler:\n• Su\n• Yedek iç lastik\n• Yama + pompa\n• Yedek tişört\n• Bar / atıştırmalık / enerji takviyesi \n⚠ KASK TAKMAK ZORUNLUDUR!\nGüvenli sürüş için olmazsa olmazımız. \nEtkin Pedal Bisiklet Topluluğu
URL:https://etkinpedal.com/faaliyet/kanalboyu-fevzicakmak-yildizbaglari-kanal-yolu-harput-kuzey-cevre-yolu-sahinkaya-keban-yolu-elazig/
LOCATION:ATOMİXBİLİŞİM\, Ataşehir Mah. Muhabirler Sok. No:10/A\, Elazığ\, Turkey
END:VEVENT
BEGIN:VEVENT
DTSTART;TZID=UTC:20250518T060000
DTEND;TZID=UTC:20250518T170000
DTSTAMP:20260420T051418
CREATED:20250517T093743Z
LAST-MODIFIED:20250517T093743Z
UID:1671-1747548000-1747587600@etkinpedal.com
SUMMARY:🚴‍♀️ 18 MAYIS PAZAR – GÜZELYALI BİSİKLET TURU 🚴‍♂️
DESCRIPTION:Bu pazar zorlu ama doğasıyla büyüleyen bir rotada pedallıyoruz!Toplam mesafe: 90 KM – Bu tur kondisyon ister! \n🗺️ Güzergâh: Şehir Hastanesi arka yolundan başlayıp Yurtbaşı üzerinden Güzelyalı’ya ulaşacağız. Gidiş-dönüş toplam 90 km sürecek keyifli ama zorlu bir parkur sizi bekliyor. \n🕕 Toplanma Saati: 06.00🚴 Yola Çıkış: 06.30📍 Toplanma Yeri: Kanalboyu Başlangıcı📏 Rota Uzunluğu: 90 km⚠️ Zorluk Seviyesi: ZOR (Kondisyonu yeterli olmayanlar tura alınmayacaktır.) \n🎒 Lütfen yanınıza atıştırmalık sandviç\, su ve enerji verici yiyecekler alınız.🪖 Kask takmak zorunludur. \n🌿 Doğayla iç içe\, bol yükseltili bu rotada hem bedeninizi hem zihninizi sınayacaksınız. Hazırsan\, hadi sen de katıl! \n📢 Detaylar ve iletişim:📸 Instagram: @etkin.pedal🌐 etkinpedal.com
URL:https://etkinpedal.com/faaliyet/%f0%9f%9a%b4%e2%99%80%ef%b8%8f-18-mayis-pazar-guzelyali-bisiklet-turu-%f0%9f%9a%b4%e2%99%82%ef%b8%8f/
LOCATION:ATOMİXBİLİŞİM\, Ataşehir Mah. Muhabirler Sok. No:10/A\, Elazığ\, Turkey
ATTACH;FMTTYPE=image/jpeg:https://etkinpedal.com/wp-content/uploads/2025/05/GUZELYALITURU.jpg
END:VEVENT
BEGIN:VEVENT
DTSTART;TZID=UTC:20250308T200000
DTEND;TZID=UTC:20250308T213000
DTSTAMP:20260420T051418
CREATED:20250306T122938Z
LAST-MODIFIED:20250306T122938Z
UID:1561-1741464000-1741469400@etkinpedal.com
SUMMARY:📢 8 Mart Dünya Kadınlar Günü Bisiklet Turu 🚴‍♀️🌸
DESCRIPTION:💜 Morun Gücünü Gösteriyoruz! 💜\n8 Mart Dünya Kadınlar Günü’nü hep birlikte pedal çevirerek kutluyoruz! Kadınların gücünü\, özgürlüğünü ve dayanışmasını göstermek için mor kıyafetlerimizi giyelim ve Elazığ sokaklarını bisikletle renklendirelim! 🚴‍♀️💜 \n📍 Toplanma Yeri: Elazığ Belediyesi Karşısı\n🕗 Toplanma Saati: 20.00\n🚴‍♀️ Yola Çıkış Saati: 20.30 \nHaydi kadınlar ve kadınlara destek olmak isteyen herkes! Pedallarımızı eşitlik\, özgürlük ve dayanışma için çevirelim! 🌷✨ \nBİSİKLETLİLER DERNEĞİ 🚴‍♂️\n📲 bd.elazig | bisikletlilerelazig.org \nSen de morunu giy\, bisikletini al ve bu özel günde bize katıl! 💜🚲
URL:https://etkinpedal.com/faaliyet/%f0%9f%93%a2-8-mart-dunya-kadinlar-gunu-bisiklet-turu-%f0%9f%9a%b4%e2%99%80%ef%b8%8f%f0%9f%8c%b8/
LOCATION:Elazığ Belediyesi Karşısı Toplanma\, Elazığ\, Türkiye
ATTACH;FMTTYPE=image/jpeg:https://etkinpedal.com/wp-content/uploads/2025/03/8mart.jpeg
END:VEVENT
BEGIN:VEVENT
DTSTART;TZID=UTC:20250202T133000
DTEND;TZID=UTC:20250202T170000
DTSTAMP:20260420T051418
CREATED:20250201T210535Z
LAST-MODIFIED:20250201T210535Z
UID:1520-1738503000-1738515600@etkinpedal.com
SUMMARY:2 Şubat Harput Bisiklet Turu
DESCRIPTION:‼️ *SEZON AÇILIŞ TUR DUYURUSU* ‼️ \n*2 ŞUBAT PAZAR HARPUT TUR DUYURUSU* \nTur rotası : Harput \n❕*2 Şubat Pazar * Toplanma *Saat : 13.30* da *Bi-Ki Bisiklet Kiralama* dır; *Saat 14.00* Yola çıkış saatimizdir. \nKonumu bilmeyenler için: Kanal Boyu Bir Arka Sokağı : https://maps.app.goo.gl/CV97e6W6CpWSkEnc8?g_st=ic \nHava soğuk olabilir ceket vs alınız! \nİyi Pedallamalar \nETKİN PEDAL YÖNETİMİ
URL:https://etkinpedal.com/faaliyet/2-subat-harput-bisiklet-turu/
LOCATION:Bi-Ki Bisiklet Kiralama\, Ataşehir Mah. Muhabirler Sok. No:10/A\, Elazığ\, Elazığ\, 23100\, Turkey
END:VEVENT
BEGIN:VEVENT
DTSTART;TZID=UTC:20240303T090000
DTEND;TZID=UTC:20240303T183000
DTSTAMP:20260420T051418
CREATED:20240225T121448Z
LAST-MODIFIED:20240225T121623Z
UID:1379-1709456400-1709490600@etkinpedal.com
SUMMARY:3 MART UZUN TUR DUYURUSU PERTEK TURU
DESCRIPTION:PERTEK TURU DUYURUSU \n❕*3 Mart Pazar* Sabahı Toplanma *Saat : 09.30 topanma 10.00 çıkış* da *Elazığ Cumhuriyet Meydanı Bayrak Önü (Eski Ahmet Aytar Meydanı)* dür; \nSıkı giyinin\nÇok yüklenmeyin \nBizim bahçeye gideceğiz\nYanınızda minimum 100 TL bulundurun. Fırında yemek yaptıracağız. \nTur toramız yaklaşık 70 km dir. \n35 Gidiş gayet rahat.\nDönerken 35 km geleceğiz biraz rampa var ama geliriz merak etmeyin. \nSürüş kurallarına uyalım. \n  \nRota zorluğu : Zor \n⁉️ Uzun tur olduğu için geçen toplantıda da belirttiğim gibi yanınızda yama seti ve pompa mutlaka bulunsun. \nEkipte görevli arkadaşların sözlerini dinleyiniz. \n❕Turlarımızda kask takmak kesinlikle zorunludur. \nİyi Pedallamalar\nwww.etkinpedal.com
URL:https://etkinpedal.com/faaliyet/uzun-tur-duyurusu-pertek-turu/
ATTACH;FMTTYPE=image/jpeg:https://etkinpedal.com/wp-content/uploads/2024/02/ea3d60c8-8d52-413e-a5fe-2a3e1ddc5ec9.jpg
END:VEVENT
BEGIN:VEVENT
DTSTART;TZID=UTC:20240225T080000
DTEND;TZID=UTC:20240225T143000
DTSTAMP:20260420T051418
CREATED:20240222T191851Z
LAST-MODIFIED:20240222T191851Z
UID:1366-1708848000-1708871400@etkinpedal.com
SUMMARY:🚴‍♂️ 25 ŞUBAT PAZAR CİP KAHVALTI TUR DUYURUSU 🚴‍♀️
DESCRIPTION:🚴‍♂️ 25 ŞUBAT PAZAR CİP KAHVALTI TUR DUYURUSU 🚴‍♀️ \nHerkese merhabalar bu pazar Cip Mesire Alanı’nda Kahvaltılı Bisiklet Sürüşü Gerçekleştireceğiz. \nSizlerden ricam herkes yanında en az 50 TL bulundursun isteyenler evden malzeme getirebilirler hep birlikte kahvaltı yapalım diyorum rota şekildeki gibidir. \n❕ Toplanma Tarihi ve Saati: 25 Şubat Pazar\, Sabah 08.00’da Ahmet Aytar Medyanı (Yeni Cumhuriyet Meydanı)’ndadır. Yola çıkış saatimiz ise 08.30’dur. \n⁉️ Önemli Notlar: Reflektörlü veya açık renkler giyinmeyi unutmayın. Hava soğuk olabilir\, bu yüzden ceket gibi uygun kıyafetlerinizle gelmenizi öneririz. Yağış görünmüyor ancak hava durumunu kontrol etmekte fayda var. \nİyi Pedallamalar! \nETKİN PEDAL YÖNETİMİ
URL:https://etkinpedal.com/faaliyet/%f0%9f%9a%b4%e2%99%82%ef%b8%8f-25-subat-pazar-cip-kahvalti-tur-duyurusu-%f0%9f%9a%b4%e2%99%80%ef%b8%8f/
ATTACH;FMTTYPE=image/jpeg:https://etkinpedal.com/wp-content/uploads/2024/02/photo_2024-02-22_22-18-13.jpg
END:VEVENT
BEGIN:VEVENT
DTSTART;TZID=UTC:20240218T083000
DTEND;TZID=UTC:20240218T163000
DTSTAMP:20260420T051418
CREATED:20240213T184744Z
LAST-MODIFIED:20240213T184744Z
UID:1361-1708245000-1708273800@etkinpedal.com
SUMMARY:2024 SEZONUN İLK TURU 18 ŞUBAT PAZAR TUR DUYURUSU
DESCRIPTION:🚴‍♂️ TUR DUYURUSU 🚴‍♀️ \n2024 SEZONUN İLK TURU\n18 ŞUBAT PAZAR TUR DUYURUSU \nTur rotası\, grubumuzun üyelerinden Muhammed Saadettin Keskin (MSK) tarafından belirlenmiştir. Sizler de yapılmasını istediğiniz tur rotalarını etkinpedal.com web sitesi üzerinden bizlere iletebilirsiniz. \n🌟 Zorluk: Orta \n❕ Toplanma Tarihi ve Saati: 18 Şubat Pazar\, Sabah Saat 08.30’da Ahmet Aytar Medyanı (Yeni Cumhuriyet Meydanı)’ndadır. Yola çıkış saatimiz ise 09.00’dur. \n⁉️ Önemli Notlar: Reflektörlü veya açık renkler giyinmeyi unutmayın. Hava soğuk olabilir\, bu yüzden ceket gibi uygun kıyafetlerinizle gelmenizi öneririz. Yağış görünmüyor ancak hava durumunu kontrol etmekte fayda var. \nİyi Pedallamalar! \nETKİN PEDAL YÖNETİMİ
URL:https://etkinpedal.com/faaliyet/2024-sezonun-ilk-turu-18-subat-pazar-tur-duyurusu/
ATTACH;FMTTYPE=image/png:https://etkinpedal.com/wp-content/uploads/2024/02/mskrota.png
END:VEVENT
BEGIN:VEVENT
DTSTART;TZID=UTC:20230604T170000
DTEND;TZID=UTC:20230604T183000
DTSTAMP:20260420T051418
CREATED:20230527T142207Z
LAST-MODIFIED:20230527T142207Z
UID:1318-1685898000-1685903400@etkinpedal.com
SUMMARY:
DESCRIPTION:‼ TUR DUYURUSU ‼ \n4 Haziran 2023 Dünya Bisiklet ve Dünya Çevre Günü Bisiklet Turu Duyurusu \n❕4 Haziran Pazar Akşamı Toplanma Saat : 17.00 da Elazığ Belediyesi Karşısı’dır; Saat 17.30 Yola çıkış saatimizdir. \nReflektörlü veya açık renkler giyiniz \n❕Derneğin resmi turudur\, tur trafiğe kapalı olacağı için kask takmak zorunlu değildir. Yelek dağıtılacaktır. Sınırlı sayıda olduğu için yeleği olanlar yeleklerinizi giyerek geliniz. Yelek almayanlara öncelik verilecektir. \n  \nİyi Pedallamalar  \n#bisiklet #bisikletci #elazigetkinlik #bisikletli #bdelazig
URL:https://etkinpedal.com/faaliyet/1318/
LOCATION:Elazığ Belediyesi Karşısı Toplanma\, Elazığ\, Türkiye
END:VEVENT
BEGIN:VEVENT
DTSTART;TZID=UTC:20220822T190000
DTEND;TZID=UTC:20220822T230000
DTSTAMP:20260420T051418
CREATED:20220821T122629Z
LAST-MODIFIED:20220821T122801Z
UID:1176-1661194800-1661209200@etkinpedal.com
SUMMARY:22 Ağustos Pazartesi Akşamı Bisiklet Turu Duyurusu
DESCRIPTION:‼️ TUR DUYURUSU ‼️ \n22 Ağustos Pazartesi Akşamı Bisiklet Turu Duyurusu \nTur rotası yaklaşık 25km’dir. \nSaat : 19.00 da\nToplanma Yeri : Elazığ Valiliği Önü dür;\nYola çıkış saatimiz 19.30’dur \n‼️Yeni trafik yönetmeliği gereği akşam turlarımızda KASK\,IŞIK ve REFLEKTÖRLÜ YELEK kesinlikle zorunludur ! \nİyi Pedallamalar \nwww.etkinpedal.com\nEtkin Pedal Bisiklet Topluluğu \n 
URL:https://etkinpedal.com/faaliyet/22-agustos-pazartesi-aksami-bisiklet-turu-duyurusu/
ATTACH;FMTTYPE=image/jpeg:https://etkinpedal.com/wp-content/uploads/2022/08/22-sopn-scaled.jpg
END:VEVENT
BEGIN:VEVENT
DTSTART;TZID=UTC:20220815T190000
DTEND;TZID=UTC:20220815T220000
DTSTAMP:20260420T051418
CREATED:20220815T104623Z
LAST-MODIFIED:20220815T104643Z
UID:1170-1660590000-1660600800@etkinpedal.com
SUMMARY:15 Ağustos Pazartesi Akşamı Bisiklet Turu Duyurusu
DESCRIPTION:‼️ TUR DUYURUSU ‼️ \n15 Ağustos Pazartesi Akşamı Bisiklet Turu Duyurusu \nAğustos ayı boyunca eski tempomuzu yakalamaya çalışacağız her hafta Pazartesi ve Perşembe günleri\ntur yapmaya devam ediyoruz ! \nTur rotası özlenen rotalardan düz çevreyolu şeklindedir.\nTur rotası yaklaşık 30km’dir. \nSaat : 19.00 da\nElazığ Valiliği Önü dür;\nYola çıkış saatimiz 19.30’dur \n⁉️ Akşam turu olduğu için ışıklarınızı kontrol ediniz. Reflektörlü veya açık renkler giyiniz \n❕Turlarımızda kask takmak kesinlikle zorunludur. \nİyi Pedallamalar \nwww.etkinpedal.com\nEtkin Pedal Bisiklet Topluluğu \n 
URL:https://etkinpedal.com/faaliyet/15-agustos-pazartesi-aksami-bisiklet-turu-duyurusu/
ATTACH;FMTTYPE=image/jpeg:https://etkinpedal.com/wp-content/uploads/2022/08/etkin-pedal-aksam-turu-Kopya-kopya-scaled.jpg
END:VEVENT
BEGIN:VEVENT
DTSTART;TZID=UTC:20220810T193000
DTEND;TZID=UTC:20220810T223000
DTSTAMP:20260420T051418
CREATED:20220809T091648Z
LAST-MODIFIED:20220809T091648Z
UID:1151-1660159800-1660170600@etkinpedal.com
SUMMARY:10 Temmuz Çarşamba Akşamı Tur Duyurusu
DESCRIPTION:‼️ TUR DUYURUSU ‼️ \nAysu ve Mustafa Halid Doğu Anadolu Turundalar.\nŞu an da Elazığ’dalar bizler de onlarla tanışmak ve birlikte bir sürüş yapmak istediğimiz için\n10 Temmuz Çarşamba Akşamı Bisiklet Turu yapalım dedik. \nTur rotası çok uzun olmamakla beraber yakşalık 10 km’dir. \nBu Akşam Toplanma Saat : 19.30 da\nElazığ Valiliği Önü dür;\nYola çıkış saatimiz 20.00 \n⁉️ Akşam turu olduğu için ışıklarınızı kontrol ediniz. Reflektörlü veya açık renkler giyiniz \n❕Turlarımızda kask takmak kesinlikle zorunludur. \nİyi Pedallamalar \n  \n  \n  \n 
URL:https://etkinpedal.com/faaliyet/10-temmuz-carsamba-aksami-tur-duyurusu/
END:VEVENT
BEGIN:VEVENT
DTSTART;TZID=UTC:20220729T200000
DTEND;TZID=UTC:20220729T213000
DTSTAMP:20260420T051418
CREATED:20220809T090412Z
LAST-MODIFIED:20220809T090412Z
UID:1149-1659124800-1659130200@etkinpedal.com
SUMMARY:29 Temmuz Akşamı Bisiklet Turu
DESCRIPTION:‼️ TUR DUYURUSU ‼️ \nTur rotası özlenen rotalardan HUSEYNİK. Yaklaşık 20km dir. \nBu Akşam Toplanma Saat : 19.30 da\nElazığ Valiliği Önü dür;\nYola çıkış saatimiz 20.00 \n⁉️ Akşam turu olduğu için ışıklarınızı kontrol ediniz. Reflektörlü veya açık renkler giyiniz \n❕Turlarımızda kask takmak kesinlikle zorunludur. \nİyi Pedallamalar
URL:https://etkinpedal.com/faaliyet/29-temmuz-aksami-bisiklet-turu/
END:VEVENT
BEGIN:VEVENT
DTSTART;TZID=UTC:20220722T193000
DTEND;TZID=UTC:20220722T223000
DTSTAMP:20260420T051418
CREATED:20220722T090207Z
LAST-MODIFIED:20220809T090324Z
UID:1145-1658518200-1658529000@etkinpedal.com
SUMMARY:22 Temmuz Cuma Akşamı Bisiklet Turu
DESCRIPTION:‼️ TUR DUYURUSU ‼️ \n❕ 22 Temmuz Cuma * akşamı *Elazığ Valiliği önünde toplanıyoruz. \nToplanma Saati: 19.30\nÇıkış Saati : 20.00 \n📌Kask takmak zorunludur! \nTurumuz rotamız aşağıdaki gibidir yaklaşık 30km’dir. \nİyi Pedallamalar \n 
URL:https://etkinpedal.com/faaliyet/22-temmuz-cuma-aksami-bisiklet-turu/
END:VEVENT
BEGIN:VEVENT
DTSTART;TZID=UTC:20220715T200000
DTEND;TZID=UTC:20220715T213000
DTSTAMP:20260420T051418
CREATED:20220715T114056Z
LAST-MODIFIED:20220720T114419Z
UID:1070-1657915200-1657920600@etkinpedal.com
SUMMARY:15 Temmuz Cuma Akşam Bisiklet Turu Duyurusu
DESCRIPTION:‼️ TUR DUYURUSU ‼️ \n❕ 15 Temmuz Cuma * akşamı *Elazığ Valiliği önünde toplanıyoruz. \nToplanma Saati: 20.00\nÇıkış Saati : 20.30 \n📌Kask takmak zorunludur! \nTurumuz kısadır rotadaki gibidir. \nTur sonrası Kültür Park da grup üyelerimizden Yusuf Toraman gitar dinletisi yapacaktır. \nİyi Pedallamalar
URL:https://etkinpedal.com/faaliyet/15-temmuz-cuma-aksam-bisiklet-turu-duyurusu/
END:VEVENT
BEGIN:VEVENT
DTSTART;TZID=UTC:20220705T190000
DTEND;TZID=UTC:20220705T223000
DTSTAMP:20260420T051418
CREATED:20220703T114425Z
LAST-MODIFIED:20220720T114539Z
UID:1074-1657047600-1657060200@etkinpedal.com
SUMMARY:5 Temmuz Salı Akşamı Tur Duyurusu
DESCRIPTION:‼️ TUR DUYURUSU ‼️ \n❕ 5 Temmuz Salı * akşamı *Elazığ Valiliği önünde toplanıyoruz. \nToplanma Saati: 19.00\nÇıkış Saati : 19.30 \n📌Kask takmak zorunludur! \nİyi Pedallamalar
URL:https://etkinpedal.com/faaliyet/5-temmuz-sali-aksami-tur-duyurusu/
END:VEVENT
BEGIN:VEVENT
DTSTART;TZID=UTC:20220701T080000
DTEND;TZID=UTC:20220703T170000
DTSTAMP:20260420T051418
CREATED:20220620T114745Z
LAST-MODIFIED:20220720T121625Z
UID:1076-1656662400-1656867600@etkinpedal.com
SUMMARY:1-2-3 Temmuz Ağın Motofest Tur Duyurusu
DESCRIPTION:‼️ TUR DUYURUSU ‼️ \n❕ 1-2-3 Temmuz günlerinde Ağın Motofest için toplanıyoruz. \nSaat 10.00 da Öğretmenevi Önü’nden otobüs alıp kamp alanına götürecek bisikletletli ekibi.\nBisikletleriniz ile gelin.\nYarış yapacağız vs.. \nOtobüs sadece bisikletli ekip için olacaktır 3 Temmuz günü otobüs dönecektir. \n📌Kask takmak zorunludur! Yarış boyunca kasklarınızı unutmayın. \nİyi Pedallamalar \n 
URL:https://etkinpedal.com/faaliyet/1-2-3-temmuz-agin-motofest-tur-duyurusu/
END:VEVENT
BEGIN:VEVENT
DTSTART;VALUE=DATE:20220617
DTEND;VALUE=DATE:20220620
DTSTAMP:20260420T051418
CREATED:20220611T094022Z
LAST-MODIFIED:20220611T094022Z
UID:944-1655424000-1655683199@etkinpedal.com
SUMMARY:17-18-19 Haziran Etkin Pedal Sivrice Kamp Turu
DESCRIPTION: KAMP MALZEMESİ OLMAYANLAR (ÇADIR\,MAT vs…) ETKİNLİĞE KATILAMAZLAR  \nEtkinlik Zamanı: 17-18-19 Mayıs Günleri \nEtkinlik Adresi: 17 Haziran Cumartesi Sabahı Toplanma Saat : 05.30 da Elazığ Öğretmenevi Önü dür; Saat 06.00 Yola çıkış saatimizdir. \nBize +90 (552) 760 10 25 00 numaralı Whatsapp hattından veya Instagram’da @etkin.pedal adresinden ulaşabilirsiniz. \n 17-18-19 HaziranKAMPLI TUR DUYURUSU  \nTur rotamız yaklaşık 40 km gidiş 40 km geliş şeklinde toplam 80 km dir. \nİsteyenler araç ile katılabilirler.\nAraç ile katılacakların özel olarak belirtmesi gerekmektedir. \n Kamplı tur olduğu için yanınıza almanız gerekenler neler ? \n Çadır \n Mat\n Uyku Tulumu \n Yedek Kıyafet\n Powerbank\n Atıştırmalık Yiyecek/İçecek\n Sırt Çantası\n El Feneri veya Kafa Lambası\n İlk Yardım Seti\n Şapka\n Termos veya Matara\n Çoklu İşleve Sahip Çakı\n Yağmurluk\n Pil \n—– \nİsteğe Bağlı Bulunması Gerekenler \n Kamp Ocağı\n Katlanır Sandalye ve Masa\n Baton\n Kamp Mutfağı \nTurlarımızda kask takmak kesinlikle zorunludur. \n Katılımcıların yanlarında kimlik bulundurması ve bana özelden T.C. kimlik numaralarını bildirmesi gerekmektedir. \nİyi Pedallamalar \n 
URL:https://etkinpedal.com/faaliyet/17-18-19-haziran-etkin-pedal-sivrice-kamp-turu/
END:VEVENT
BEGIN:VEVENT
DTSTART;TZID=UTC:20220616T183000
DTEND;TZID=UTC:20220616T183000
DTSTAMP:20260420T051418
CREATED:20220611T093807Z
LAST-MODIFIED:20220611T093807Z
UID:942-1655404200-1655404200@etkinpedal.com
SUMMARY:16 Haziran Perşembe Akşamı Bisiklet Turu
DESCRIPTION:‼️ TUR DUYURUSU ‼️ \n❕ 16 Haziran Perşembe* akşamıToplanma *Saat : 19.00 da Valilik Önü * nde toplanıyoruz. *Saat 19.30 Yola çıkış saatimizdir. \n📌Kask takmak zorunludur! \nRota yaklaşık 12km’dir. \nDuruma göre grup üyelerimizden Hüseyin Topçu’nun oğlu Yusuf Topçu’nun doğum gününü kutlamak için bahçelerine gidebiliriz. \n \nİyi Pedallamalar
URL:https://etkinpedal.com/faaliyet/16-haziran-persembe-aksami-bisiklet-turu/
END:VEVENT
END:VCALENDAR